BEGIN:VCALENDAR
VERSION:2.0
PRODID:-//ChamberMaster//Event Calendar 2.0//EN
METHOD:PUBLISH
X-PUBLISHED-TTL:P1H
REFRESH-INTERVAL:P1H
CALSCALE:GREGORIAN
BEGIN:VTIMEZONE
TZID:America/New_York
BEGIN:DAYLIGHT
RRULE:FREQ=YEARLY;BYMONTH=3;BYDAY=2SU
DTSTART:20070101T000000
TZOFFSETFROM:-0500
TZOFFSETTO:-0400
TZNAME:Eastern Daylight Time
END:DAYLIGHT
BEGIN:STANDARD
RRULE:FREQ=YEARLY;BYMONTH=11;BYDAY=1SU
DTSTART:20070101T000000
TZOFFSETFROM:-0400
TZOFFSETTO:-0500
TZNAME:Eastern Standard Time
END:STANDARD
END:VTIMEZONE
BEGIN:VEVENT
DTSTART;TZID=America/New_York:20260501T140000
DTEND;TZID=America/New_York:20260501T143000
X-MICROSOFT-CDO-ALLDAYEVENT:FALSE
SUMMARY:May Member of the Month Presentation - A-1 for Fun
DESCRIPTION:Join us as we celebrate our May Member of the Month\, A-1 for Fun! Known for bringing energy\, creativity\, and excitement to our community\, A-1 for Fun has made a lasting impression through their involvement and commitment to creating memorable experiences.Come hear their story\, learn more about their impact\, and help us recognize the people behind the fun. This is a great opportunity to connect\, show your support\, and celebrate a business that truly adds joy to our community.We hope you'll join us in congratulating A-1 for Fun!
X-ALT-DESC;FMTTYPE=text/html:<!DOCTYPE html><html><head><title></title></head><body aria-disabled="false" data-gr-ext-installed="" data-new-gr-c-s-check-loaded="14.1284.0" data-new-gr-c-s-loaded="14.1284.0" spellcheck="false"><p data-end="374" data-start="121">Join us as we celebrate our May Member of the Month\, <a fr-original-style="" href="https://www.a-1forfun.com/?fbclid=IwY2xjawRUqr1leHRuA2FlbQIxMABicmlkETE2S1NORFo2Y1dlaWJsdW1zc3J0YwZhcHBfaWQQMjIyMDM5MTc4ODIwMDg5MgABHjanBBcYYv0iG7GrcdiRKGa_CchAHqndSINarBXf_OsPEo-Cx3HC75nilxOu_aem_QIjTDXXyZnaZc0IcDrN3jg" rel="noopener noreferrer" style="user-select: auto\;" target="_blank"><strong fr-original-style="" style="font-weight: 700\;">A-1 for Fun</strong></a>! Known for bringing energy\, creativity\, and excitement to our community\, A-1 for Fun has made a lasting impression through their involvement and commitment to creating memorable experiences.</p><p data-end="600" data-start="376">Come hear their story\, learn more about their impact\, and help us recognize the people behind the fun. This is a great opportunity to connect\, show your support\, and celebrate a business that truly adds joy to our community.</p><p data-end="654" data-is-last-node="" data-is-only-node="" data-start="602">We hope you&rsquo\;ll join us in congratulating A-1 for Fun!</p></body></html>
LOCATION:1901 W. Enterprise Ave Muncie IN 47304
UID:e.3941.1448422
SEQUENCE:3
DTSTAMP:20260423T150342Z
URL:https://business.munciechamber.org/events/Details/may-member-of-the-month-presentation-a-1-for-fun-1715421?sourceTypeId=Hub
END:VEVENT
END:VCALENDAR
