BEGIN:VCALENDAR
VERSION:2.0
PRODID:-//ChamberMaster//Event Calendar 2.0//EN
METHOD:PUBLISH
X-PUBLISHED-TTL:P1H
REFRESH-INTERVAL:P1H
CALSCALE:GREGORIAN
BEGIN:VTIMEZONE
TZID:America/New_York
BEGIN:DAYLIGHT
RRULE:FREQ=YEARLY;BYMONTH=3;BYDAY=2SU
DTSTART:20070101T000000
TZOFFSETFROM:-0500
TZOFFSETTO:-0400
TZNAME:Eastern Daylight Time
END:DAYLIGHT
BEGIN:STANDARD
RRULE:FREQ=YEARLY;BYMONTH=11;BYDAY=1SU
DTSTART:20070101T000000
TZOFFSETFROM:-0400
TZOFFSETTO:-0500
TZNAME:Eastern Standard Time
END:STANDARD
END:VTIMEZONE
BEGIN:VEVENT
DTSTART;TZID=America/New_York:20260512T120000
DTEND;TZID=America/New_York:20260512T123000
X-MICROSOFT-CDO-ALLDAYEVENT:FALSE
SUMMARY:Ribbon Cutting - IU Health Pediatric Physical Therapy & Rehabilitation
DESCRIPTION:Join us for a ribbon cutting as we celebrate IU Health's new Pediatric Rehab Playground   Outdoor Treatment Space!After more than two years of planning and fundraising\, ground has been broken for the Pediatric Rehab Playground - Outdoor Treatment Space! This is an adaptive playground designed to help children build confidence and develop important life skills in a safe outdoor environment. The Pediatric Rehabilitation Outdoor Space gives therapists something they have never had before: an outdoor therapy area that lets children practice everyday movements and problem-solving in a natural setting.Learn more about them here.
X-ALT-DESC;FMTTYPE=text/html:<!DOCTYPE html><html><head><title></title></head><body aria-disabled="false" spellcheck="false"><section data-scroll-anchor="true" data-testid="conversation-turn-4" data-turn="assistant" data-turn-id="request-WEB:ebdfd4d1-b322-4849-875a-e2d4cccc001e-1" dir="auto"><div data-message-author-role="assistant" data-message-id="f666f21c-c77c-43df-9375-e057a3b80425" data-message-model-slug="gpt-5-3" data-turn-start-message="true" dir="auto" tabindex="0"><p data-end="106" data-start="0">Join us for a ribbon cutting as we celebrate IU Health&#39\;s new Pediatric Rehab Playground &ndash\; Outdoor Treatment Space!</p><p data-end="106" data-start="0">After more than two years of planning and fundraising\, ground has been broken for the Pediatric Rehab Playground - Outdoor Treatment Space! This is an adaptive playground designed to help children build confidence and develop important life skills in a safe outdoor environment. The Pediatric Rehabilitation Outdoor Space gives therapists something they have never had before: an outdoor therapy area that lets children practice everyday movements and problem-solving in a natural setting.</p></div></section><p>Learn more about them <a fr-original-style="" href="https://iuhealth.org/find-locations/iu-health-pediatric-physical-therapy-rehabilitation-200-n-tillotson-ave-muncie" rel="noopener noreferrer" style="user-select: auto\;" target="_blank">here</a>.</p></body></html>
LOCATION:200 N Tillotson Ave Ste A Muncie IN 47304
UID:e.3941.1442501
SEQUENCE:3
DTSTAMP:20260423T150539Z
URL:https://business.munciechamber.org/events/Details/ribbon-cutting-iu-health-pediatric-physical-therapy-rehabilitation-1708499?sourceTypeId=Hub
END:VEVENT
END:VCALENDAR
