BEGIN:VCALENDAR
VERSION:2.0
PRODID:-//ChamberMaster//Event Calendar 2.0//EN
METHOD:PUBLISH
X-PUBLISHED-TTL:P1H
REFRESH-INTERVAL:P1H
CALSCALE:GREGORIAN
BEGIN:VTIMEZONE
TZID:America/New_York
BEGIN:DAYLIGHT
RRULE:FREQ=YEARLY;BYMONTH=3;BYDAY=2SU
DTSTART:20070101T000000
TZOFFSETFROM:-0500
TZOFFSETTO:-0400
TZNAME:Eastern Daylight Time
END:DAYLIGHT
BEGIN:STANDARD
RRULE:FREQ=YEARLY;BYMONTH=11;BYDAY=1SU
DTSTART:20070101T000000
TZOFFSETFROM:-0400
TZOFFSETTO:-0500
TZNAME:Eastern Standard Time
END:STANDARD
END:VTIMEZONE
BEGIN:VEVENT
DTSTART;TZID=America/New_York:20260604T163000
DTEND;TZID=America/New_York:20260604T170000
X-MICROSOFT-CDO-ALLDAYEVENT:FALSE
SUMMARY:Ribbon Cutting - Nonprofit Support Network
DESCRIPTION:Join us for a ribbon cutting as we celebrate Nonprofit Support Network's new office space!Nonprofit Support Network is dedicated to the institutional strengthening of nonprofit organizations serving Muncie and Delaware County. They believe our community is best served when nonprofits have the resources they need to focus on their mission. They take a targeted approach to support organizations in areas they need it the most by cultivating relationships and addressing resource needs. They were established to provide quality and valuable training and coaching resources to nonprofit organizations and the individuals that serve them.They are celebrating with an open house from 4-6 p.m. The ribbon cutting will begin at 4:30 p.m.Learn more about them here.
X-ALT-DESC;FMTTYPE=text/html:<!DOCTYPE html><html><head><title></title></head><body aria-disabled="false" spellcheck="false"><section data-scroll-anchor="true" data-testid="conversation-turn-4" data-turn="assistant" data-turn-id="request-WEB:ebdfd4d1-b322-4849-875a-e2d4cccc001e-1" dir="auto"><div data-message-author-role="assistant" data-message-id="f666f21c-c77c-43df-9375-e057a3b80425" data-message-model-slug="gpt-5-3" data-turn-start-message="true" dir="auto" tabindex="0"><p data-end="106" data-start="0">Join us for a ribbon cutting as we celebrate Nonprofit Support Network&#39\;s new office space!</p><p data-end="106" data-start="0">Nonprofit Support Network is dedicated to the institutional strengthening of nonprofit organizations serving Muncie and Delaware County. They believe our community is best served when nonprofits have the resources they need to focus on their mission. They take a targeted approach to support organizations in areas they need it the most by cultivating relationships and addressing resource needs. They were established to provide quality and valuable training and coaching resources to nonprofit organizations and the individuals that serve them.</p><p data-end="106" data-start="0">They are celebrating with an open house from 4-6 p.m. The ribbon cutting will begin at 4:30 p.m.</p></div></section><p>Learn more about them <a fr-original-style="" href="https://www.muncienonprofits.org/" rel="noopener noreferrer" style="user-select: auto\;" target="_blank">here</a>.</p></body></html>
LOCATION:302 E Jackson Muncie IN 47305
UID:e.3941.1448875
SEQUENCE:3
DTSTAMP:20260423T145857Z
URL:https://business.munciechamber.org/events/Details/ribbon-cutting-nonprofit-support-network-1716181?sourceTypeId=Hub
END:VEVENT
END:VCALENDAR
